BEGIN:VCALENDAR
VERSION:2.0
PRODID:-//Brisbane Open - ECPv5.1.6//NONSGML v1.0//EN
CALSCALE:GREGORIAN
METHOD:PUBLISH
X-WR-CALNAME:Brisbane Open
X-ORIGINAL-URL:https://brisbaneopen.com.au
X-WR-CALDESC:Events for Brisbane Open
BEGIN:VTIMEZONE
TZID:Australia/Brisbane
BEGIN:STANDARD
TZOFFSETFROM:+1000
TZOFFSETTO:+1000
TZNAME:AEST
DTSTART:20210101T000000
END:STANDARD
END:VTIMEZONE
BEGIN:VEVENT
DTSTART;TZID=Australia/Brisbane:20210710T080000
DTEND;TZID=Australia/Brisbane:20210711T170000
DTSTAMP:20210223T142500
CREATED:20200812T005622Z
LAST-MODIFIED:20200812T035327Z
UID:13531-1625904000-1626022800@brisbaneopen.com.au
SUMMARY:Brisbane Open House 2021
DESCRIPTION:Brisbane Open House is a free annual event. We provide residents and visitors with the rare opportunity to discover the hidden wealth of architecture\, engineering and history in buildings and places around Brisbane city. \nSelected buildings are opened for the public with guided and self-guided tours to encourage visitors to explore\, re-examine and engage with Brisbane’s built environment. The experience opens people’s eyes and minds to good design and curious spaces. \nThe inaugural Brisbane Open House was launched in 2010 with great success\, attracting more than 12\,500 visits.  Each year the event has continued to grow. In 2019\, our tenth anniversary\, BOH attracted 85\,000 visits from over 35\,000 participants to 120 sites. \nThis year BOH is changing the way we do things. In line with our participant survey responses\, we will be creating lots of year-round offerings for smaller groups of participants. So that we can ensure the safety of our staff\, visitors\, and volunteers during the COVID pandemic\, we will take all appropriate precautions.  Look out for special expert-lead tours and digital content that we will be sharing online. \nWe have shifted our next free weekend to 10 & 11 July 2021\, positioned in a season from 26 June to 11 July\, the school holidays of 2021. We are looking forward to exploring some beautiful places and discovering more hidden treasures with you! \n  \nImage: Peakaboo House BOH 2019 by Jad Sylla\n\nADD TO YOUR CALENDAR
URL:https://brisbaneopen.com.au/event/brisbane-open-house-2021/
CATEGORIES:BNE Open House
ATTACH;FMTTYPE=image/jpeg:https://brisbaneopen.com.au/wp-content/uploads/2020/08/Peakaboo-House_Jad-Sylla.jpg
END:VEVENT
END:VCALENDAR