BEGIN:VCALENDAR
VERSION:2.0
PRODID:-//Brisbane Open - ECPv5.1.6//NONSGML v1.0//EN
CALSCALE:GREGORIAN
METHOD:PUBLISH
X-WR-CALNAME:Brisbane Open
X-ORIGINAL-URL:https://brisbaneopen.com.au
X-WR-CALDESC:Events for Brisbane Open
BEGIN:VTIMEZONE
TZID:Australia/Brisbane
BEGIN:STANDARD
TZOFFSETFROM:+1000
TZOFFSETTO:+1000
TZNAME:AEST
DTSTART:20200101T000000
END:STANDARD
END:VTIMEZONE
BEGIN:VEVENT
DTSTART;TZID=Australia/Brisbane:20200913T093000
DTEND;TZID=Australia/Brisbane:20200913T110000
DTSTAMP:20210223T144047
CREATED:20200725T015954Z
LAST-MODIFIED:20200819T144400Z
UID:13234-1599989400-1599994800@brisbaneopen.com.au
SUMMARY:Paddington Architecture & Culture 13/09/2020 //SOLD OUT//
DESCRIPTION:Paddington street with city view \nThis event has sold out – two more tours are available.\nSundays 27 September and 11 October\n9.30am start – 11am finish near Lang Park.\nThe ubiquitous Queenslander\, art deco theatre\, a tramway long since gone\, workers’ cottages and new buildings with small hilly back streets in between makes up the intriguing mix that contributes to the feeling of living history in Brisbane’s Paddington and Red Hill. \nExplore Paddington’s houses\, history\, and culture through the eyes of senior architect Malcolm Middleton. Discuss building styles and hear stories of the changes in this influential inner-city community as it has evolved. \n90 mins max. Wear walking shoes\, bring a water bottle. Fitness level appropriate to climbing steep suburban hills.  \nApprox 5000 steps. \nMin 10 participants. Max 25 participants.\nTravelling by bus – Bus 61 or 385 services. \n9.30am start – 11am finish near Lang Park.\nMeet up at Trammies Corner. \nFull $25/ $18 Concession / Children under 2 free \nBOOK HERE\nOnly booked patrons may participate due to COVID safe procedures. Please book in advance.\nAccess limited due to footpath variations and hills. Disability carers welcome at no additional cost. Contact us please. \n\nImage credit: Malcolm Middleton.\nAdd to Calendar:
URL:https://brisbaneopen.com.au/event/paddington-architecture-culture-sep-13/
LOCATION:Trammies Corner\, Cnr Prince St and Latrobe Tce\, Paddington\, QLD\, Australia
CATEGORIES:Walking Tours
ATTACH;FMTTYPE=image/jpeg:https://brisbaneopen.com.au/wp-content/uploads/2020/08/Paddington-Tour-houses-Image-Malcolm-Middleton.jpg
END:VEVENT
END:VCALENDAR